BEGIN:VCALENDAR
VERSION:2.0
PRODID:-//Jupiter Tequesta Repeater Group - ECPv6.15.17.1//NONSGML v1.0//EN
CALSCALE:GREGORIAN
METHOD:PUBLISH
X-WR-CALNAME:Jupiter Tequesta Repeater Group
X-ORIGINAL-URL:https://jtrg.org
X-WR-CALDESC:Events for Jupiter Tequesta Repeater Group
REFRESH-INTERVAL;VALUE=DURATION:PT1H
X-Robots-Tag:noindex
X-PUBLISHED-TTL:PT1H
BEGIN:VTIMEZONE
TZID:UTC
BEGIN:STANDARD
TZOFFSETFROM:+0000
TZOFFSETTO:+0000
TZNAME:UTC
DTSTART:20170101T000000
END:STANDARD
END:VTIMEZONE
BEGIN:VEVENT
DTSTART;TZID=UTC:20191106T190000
DTEND;TZID=UTC:20191106T210000
DTSTAMP:20260425T112634
CREATED:20181112T005214Z
LAST-MODIFIED:20181117T191027Z
UID:1667-1573066800-1573074000@jtrg.org
SUMMARY:JTRG Annual Elections Meeting Nov. 6th\, 2019
DESCRIPTION:JTRG Annual Elections Meeting Nov. 6th\, 2019\n\nNov. 6th\, 2019 @ 7:00 pm – 9:00 pm\nFree \n\n\n\n\n\n\n\n\n\n\n\n\n\n \n\n\n\n\nPlease follow and like us:
URL:https://jtrg.org/event/jtrg-annual-elections-meeting-nov-6th-2019/
LOCATION:Old Jupiter Town Hall\, 1000 Town Hall Avenue\, Jupiter\, FL\, 33458\, United States
END:VEVENT
BEGIN:VEVENT
DTSTART;TZID=UTC:20191102T090000
DTEND;TZID=UTC:20191103T150000
DTSTAMP:20260425T112634
CREATED:20181112T013304Z
LAST-MODIFIED:20181117T190917Z
UID:1683-1572685200-1572793200@jtrg.org
SUMMARY:Amateur Radio General Class/Exam Nov. 2nd and 3rd\, 2019
DESCRIPTION:November 2nd @ 9:00 am – November 3rd @ 3:00 pm\n\n\n\n\n\n \n\n\n\n\nPlease follow and like us:
URL:https://jtrg.org/event/amateur-radio-general-classexam-nov-2nd-3rd-2019/
LOCATION:PBC EOC\, 20 S. Military Trail\, West Palm Beach\, FL\, 33415\, United States
END:VEVENT
BEGIN:VEVENT
DTSTART;TZID=UTC:20191005T090000
DTEND;TZID=UTC:20191006T150000
DTSTAMP:20260425T112634
CREATED:20181112T012937Z
LAST-MODIFIED:20181117T190811Z
UID:1681-1570266000-1570374000@jtrg.org
SUMMARY:Amateur Radio Technician Class/Exam Oct. 5th and 6th\, 2019
DESCRIPTION:October 5th @ 9:00 am – October 6th @ 3:00 pm\n\n\n\n\n\n \n\n\n\n\nPlease follow and like us:
URL:https://jtrg.org/event/amateur-radio-technician-classexam-oct-5th-6th-2019/
LOCATION:PBC EOC\, 20 S. Military Trail\, West Palm Beach\, FL\, 33415\, United States
END:VEVENT
BEGIN:VEVENT
DTSTART;TZID=UTC:20191002T190000
DTEND;TZID=UTC:20191002T200000
DTSTAMP:20260425T112634
CREATED:20181112T015140Z
LAST-MODIFIED:20181117T190720Z
UID:1692-1570042800-1570046400@jtrg.org
SUMMARY:JTRG Board of Directors Meeting Oct. 2nd\, 2019
DESCRIPTION:Please follow and like us:
URL:https://jtrg.org/event/jtrg-board-directors-meeting-oct-2nd-2019/
LOCATION:Old Jupiter Town Hall\, 1000 Town Hall Avenue\, Jupiter\, FL\, 33458\, United States
END:VEVENT
BEGIN:VEVENT
DTSTART;TZID=UTC:20190921T073000
DTEND;TZID=UTC:20190921T100000
DTSTAMP:20260425T112634
CREATED:20181112T012006Z
LAST-MODIFIED:20190530T140657Z
UID:1676-1569051000-1569060000@jtrg.org
SUMMARY:Adopt A Highway and ICC Free Tee Shirts\, Coffee and Donuts
DESCRIPTION:Please follow and like us:
URL:https://jtrg.org/event/adopt-highway-free-coffee-donuts-2/
LOCATION:JTRG Adopt A Highway\,  131 Alternate A1a N\, Jupiter\, FL\, 33458\, United States
END:VEVENT
BEGIN:VEVENT
DTSTART;TZID=UTC:20190904T190000
DTEND;TZID=UTC:20190904T210000
DTSTAMP:20260425T112634
CREATED:20181112T004659Z
LAST-MODIFIED:20181117T190451Z
UID:1665-1567623600-1567630800@jtrg.org
SUMMARY:JTRG Regular Meeting September 4th\, 2019
DESCRIPTION:JTRG Regular Meeting September 4th\, 2019\n\nSeptember 4th\, 2019 @ 7:00 pm – 9:00 pm\nFree \n\n\n\n\n\n\n\n\n\n\n\n\n\n \n\n\n\n\nPlease follow and like us:
URL:https://jtrg.org/event/jtrg-regular-meeting-september-4th-2019/
LOCATION:Old Jupiter Town Hall\, 1000 Town Hall Avenue\, Jupiter\, FL\, 33458\, United States
END:VEVENT
BEGIN:VEVENT
DTSTART;TZID=UTC:20190622T070000
DTEND;TZID=UTC:20190623T170000
DTSTAMP:20260425T112634
CREATED:20171215T214546Z
LAST-MODIFIED:20190602T151938Z
UID:1395-1561186800-1561309200@jtrg.org
SUMMARY:Field Day Carlin Park Civic Center June 22nd and 23rd\, 2019
DESCRIPTION:
URL:https://jtrg.org/event/antenna-meeting-carlin-park-civic-center-june-6th-2018/
LOCATION:Jupiter Civic Center\, Carlin Park\, 128 Cape Pointe Circle\, Jupiter\, FL\, 33477\, United States
END:VEVENT
BEGIN:VEVENT
DTSTART;TZID=UTC:20190608T080000
DTEND;TZID=UTC:20190608T100000
DTSTAMP:20260425T112634
CREATED:20181112T011745Z
LAST-MODIFIED:20181117T190103Z
UID:1674-1559980800-1559988000@jtrg.org
SUMMARY:Adopt A Highway Free Coffee and Donuts June 8th\,2019 8:00AM
DESCRIPTION:Please follow and like us:
URL:https://jtrg.org/event/adopt-highway-free-coffee-donuts/
LOCATION:JTRG Adopt A Highway\,  131 Alternate A1a N\, Jupiter\, FL\, 33458\, United States
END:VEVENT
BEGIN:VEVENT
DTSTART;TZID=UTC:20190605T180000
DTEND;TZID=UTC:20190605T190000
DTSTAMP:20260425T112634
CREATED:20171216T224932Z
LAST-MODIFIED:20181112T014058Z
UID:1463-1559757600-1559761200@jtrg.org
SUMMARY:Antenna & Field Day Planning Meeting June 5th\, 2019
DESCRIPTION:Join us for FIELD DAY on June 22nd…see the EVENTS calendar for more details\, or visit us on FACEBOOK!
URL:https://jtrg.org/event/antenna-field-day-planning-meeting-june-6th2018/
LOCATION:Jupiter Civic Center\, Carlin Park\, 128 Cape Pointe Circle\, Jupiter\, FL\, 33477\, United States
END:VEVENT
BEGIN:VEVENT
DTSTART;TZID=UTC:20190501T190000
DTEND;TZID=UTC:20190501T210000
DTSTAMP:20260425T112634
CREATED:20181112T000659Z
LAST-MODIFIED:20181117T185633Z
UID:1662-1556737200-1556744400@jtrg.org
SUMMARY:JTRG Regular Meeting May 1st\, 2019
DESCRIPTION:JTRG Regular Meeting May 1st\, 2019 7:00 pm Jupiter Old Town Hall\n\n\n\n\n\n\n\n \n\n\n\n\nPlease follow and like us:
URL:https://jtrg.org/event/jtrg-regular-meeting-may-2nd-2019/
LOCATION:Old Jupiter Town Hall\, 1000 Town Hall Avenue\, Jupiter\, FL\, 33458\, United States
END:VEVENT
BEGIN:VEVENT
DTSTART;TZID=UTC:20190427T080000
DTEND;TZID=UTC:20190427T100000
DTSTAMP:20260425T112634
CREATED:20171215T212004Z
LAST-MODIFIED:20181223T234238Z
UID:1399-1556352000-1556359200@jtrg.org
SUMMARY:Adopt A Highway Free Dunkin Donuts and Coffee
DESCRIPTION:
URL:https://jtrg.org/event/adopt-highway-free-dunkin-donuts-coffee-2/
LOCATION:Dunkin’ Donuts\, 131 Alt AiA\, Jupiter\, FL\, 33477\, United States
END:VEVENT
BEGIN:VEVENT
DTSTART;TZID=UTC:20190316T080000
DTEND;TZID=UTC:20190316T150000
DTSTAMP:20260425T112634
CREATED:20181227T205333Z
LAST-MODIFIED:20181227T205333Z
UID:1793-1552723200-1552748400@jtrg.org
SUMMARY:Stuart Hamfest March 16th\, 2019
DESCRIPTION:
URL:https://jtrg.org/event/stuart-hamfest-march-16th-2019-2/
LOCATION:Stuart Hamfest\, 2616 SE Dixie Hwy\, Stuart\, FL\, 34996\, United States
END:VEVENT
BEGIN:VEVENT
DTSTART;TZID=UTC:20190309T090000
DTEND;TZID=UTC:20190310T170000
DTSTAMP:20260425T112634
CREATED:20181230T035544Z
LAST-MODIFIED:20181230T040101Z
UID:1803-1552122000-1552237200@jtrg.org
SUMMARY:Amateur Radio Extra Class/Exam March 9th and 10th\, 2019 at the PBC EOC
DESCRIPTION:You’ve passed the Technician Class exam and your General Class exam! Now you have only 1 exam session left\, the Extra Class. \nWith an Extra Class licence you will be able to enjoy and use all of the frequencies allocated to Ham Radio. Are you ready to take the final step?
URL:https://jtrg.org/event/amateur-radio-extra-class/
LOCATION:PBC EOC\, 20 S. Military Trail\, West Palm Beach\, FL\, 33415\, United States
END:VEVENT
BEGIN:VEVENT
DTSTART;TZID=UTC:20190223T090000
DTEND;TZID=UTC:20190224T150000
DTSTAMP:20260425T112634
CREATED:20171215T203940Z
LAST-MODIFIED:20181112T012644Z
UID:1379-1550912400-1551020400@jtrg.org
SUMMARY:Amateur Radio Technician Class/Exam Feb. 23rd and 24th\, 2019
DESCRIPTION:
URL:https://jtrg.org/event/amateur-radio-technician-classexam-october-6th-7th-2018/
LOCATION:PBC EOC\, 20 S. Military Trail\, West Palm Beach\, FL\, 33415\, United States
END:VEVENT
BEGIN:VEVENT
DTSTART;TZID=UTC:20190217T070000
DTEND;TZID=UTC:20190217T120000
DTSTAMP:20260425T112634
CREATED:20190115T005625Z
LAST-MODIFIED:20190115T005625Z
UID:1817-1550386800-1550404800@jtrg.org
SUMMARY:2019 Giro di Zeppoli Bike Tour
DESCRIPTION:2019 GdZ Flyer- New \n^ Ham Radio Volunteers needed at this event.  2 in Jupiter\, 2 in Hobe Sound and 2 in Stuart. \nPlease contact Bert AG4BV to sign up. \naug77@att.net    561 714-6673
URL:https://jtrg.org/event/2019-giro-di-zeppoli-bike-tour/
LOCATION:Giro di Zeppoli Bike Tour\, Ocean Cay Park\, Jupiter\, FL\, 33477\, United States
ORGANIZER;CN="Kevin O'Brien":MAILTO:OBrienK@pbso.org
END:VEVENT
BEGIN:VEVENT
DTSTART;TZID=UTC:20190206T190000
DTEND;TZID=UTC:20190206T210000
DTSTAMP:20260425T112634
CREATED:20181111T235830Z
LAST-MODIFIED:20181117T185105Z
UID:1659-1549479600-1549486800@jtrg.org
SUMMARY:JTRG Regular Meeting Feb. 6th\, 2019
DESCRIPTION:JTRG Regular Meeting February 6th\, 2018 7:00 pm Jupiter Old Town Hall\n\n\n\n\n\n\n\n \n\n\n\n\nPlease follow and like us:\n\n\n\n\n\n\n\n\n\n\n\n\n\n\n\n\n\n\n\n\n+ GOOGLE CALENDAR+ ICAL EXPORT
URL:https://jtrg.org/event/jtrg-regular-meeting-feb-6th-2019/
LOCATION:Old Jupiter Town Hall\, 1000 Town Hall Avenue\, Jupiter\, FL\, 33458\, United States
END:VEVENT
BEGIN:VEVENT
DTSTART;TZID=UTC:20181209T110000
DTEND;TZID=UTC:20181209T150000
DTSTAMP:20260425T112634
CREATED:20171215T215542Z
LAST-MODIFIED:20181117T194730Z
UID:1415-1544353200-1544367600@jtrg.org
SUMMARY:Town of Jupiter Christmas Parade December 9th\, 2018
DESCRIPTION:DCIM100GOPROGOPR3401.
URL:https://jtrg.org/event/town-jupiter-christmas-parade-december-9th-2018/
LOCATION:Town of Jupiter Christmas Parade\, 806 N Old Dixie Highway\, Jupiter\, FL\, 33458\, United States
END:VEVENT
BEGIN:VEVENT
DTSTART;TZID=UTC:20181208T080000
DTEND;TZID=UTC:20181208T100000
DTSTAMP:20260425T112634
CREATED:20171215T212339Z
LAST-MODIFIED:20171216T214749Z
UID:1405-1544256000-1544263200@jtrg.org
SUMMARY:Adopt A Highway Free Dunkin Donuts and Coffee
DESCRIPTION:
URL:https://jtrg.org/event/adopt-highway-free-dunkin-donuts-coffee-4/
LOCATION:Dunkin’ Donuts\, 131 Alt AiA\, Jupiter\, FL\, 33477\, United States
END:VEVENT
BEGIN:VEVENT
DTSTART;TZID=UTC:20181202T110000
DTEND;TZID=UTC:20181202T150000
DTSTAMP:20260425T112634
CREATED:20171215T215143Z
LAST-MODIFIED:20181117T193813Z
UID:1411-1543748400-1543762800@jtrg.org
SUMMARY:Jupiter Farms Parade December 2nd\, 2018
DESCRIPTION:
URL:https://jtrg.org/event/jupiter-farms-parade-december-2nd-2018/
LOCATION:Jupiter Farms Christmas Parade\, 12000 Sandy Run\, Jupiter\, FL\, 33478\, United States
END:VEVENT
BEGIN:VEVENT
DTSTART;TZID=UTC:20181107T190000
DTEND;TZID=UTC:20181107T210000
DTSTAMP:20260425T112634
CREATED:20171215T210834Z
LAST-MODIFIED:20171216T224451Z
UID:1392-1541617200-1541624400@jtrg.org
SUMMARY:JTRG Annual Elections  Meeting November 7th\, 2018 7:00 pm Jupiter Old Town Hall
DESCRIPTION:
URL:https://jtrg.org/event/jtrg-annual-elections-meeting-november-7th-2018-700-pm-jupiter-old-town-hall/
LOCATION:Old Jupiter Town Hall\, 1000 Town Hall Avenue\, Jupiter\, FL\, 33458\, United States
END:VEVENT
BEGIN:VEVENT
DTSTART;TZID=UTC:20181104T090000
DTEND;TZID=UTC:20181105T150000
DTSTAMP:20260425T112634
CREATED:20170308T012924Z
LAST-MODIFIED:20171216T215803Z
UID:1135-1541322000-1541430000@jtrg.org
SUMMARY:Amateur Radio General Class/Exam November 3rd and 4th\, 2018
DESCRIPTION:
URL:https://jtrg.org/event/jtrg-regular-meeting/
LOCATION:PBC EOC\, 20 S. Military Trail\, West Palm Beach\, FL\, 33415\, United States
END:VEVENT
BEGIN:VEVENT
DTSTART;TZID=UTC:20181003T190000
DTEND;TZID=UTC:20181003T200000
DTSTAMP:20260425T112634
CREATED:20171215T215817Z
LAST-MODIFIED:20171216T220253Z
UID:1418-1538593200-1538596800@jtrg.org
SUMMARY:JTRG Board of Directors Meeting October 3rd\, 2018 Jupiter Old Town Hall
DESCRIPTION:
URL:https://jtrg.org/event/jtrg-board-directors-meeting-october-3rd-2018-jupiter-old-town-hall/
LOCATION:Old Jupiter Town Hall\, 1000 Town Hall Avenue\, Jupiter\, FL\, 33458\, United States
END:VEVENT
BEGIN:VEVENT
DTSTART;TZID=UTC:20180915T080000
DTEND;TZID=UTC:20180915T100000
DTSTAMP:20260425T112634
CREATED:20171215T212148Z
LAST-MODIFIED:20171216T220520Z
UID:1402-1536998400-1537005600@jtrg.org
SUMMARY:Adopt A Highway Free Dunkin Donuts and Coffee
DESCRIPTION:
URL:https://jtrg.org/event/adopt-highway-free-dunkin-donuts-coffee-3/
LOCATION:Dunkin’ Donuts\, 131 Alt AiA\, Jupiter\, FL\, 33477\, United States
END:VEVENT
BEGIN:VEVENT
DTSTART;TZID=UTC:20180905T190000
DTEND;TZID=UTC:20180905T210000
DTSTAMP:20260425T112634
CREATED:20171215T210522Z
LAST-MODIFIED:20171216T220821Z
UID:1388-1536174000-1536181200@jtrg.org
SUMMARY:JTRG Regular Meeting September 5th\, 2018 7:00 pm Jupiter Old Town Hall
DESCRIPTION:
URL:https://jtrg.org/event/jtrg-regular-meeting-september-5th-2018-700-pm-jupiter-old-town-hall/
LOCATION:Old Jupiter Town Hall\, 1000 Town Hall Avenue\, Jupiter\, FL\, 33458\, United States
END:VEVENT
BEGIN:VEVENT
DTSTART;TZID=UTC:20180502T190000
DTEND;TZID=UTC:20180502T210000
DTSTAMP:20260425T112634
CREATED:20171215T210227Z
LAST-MODIFIED:20171216T193855Z
UID:1385-1525287600-1525294800@jtrg.org
SUMMARY:JTRG Regular Meeting May 2nd\, 2018 7:00 pm Jupiter Old Town Hall
DESCRIPTION:
URL:https://jtrg.org/event/jtrg-regular-meeting-may-2nd-2018-700-pm-jupiter-old-town-hall/
LOCATION:Old Jupiter Town Hall\, 1000 Town Hall Avenue\, Jupiter\, FL\, 33458\, United States
END:VEVENT
BEGIN:VEVENT
DTSTART;TZID=UTC:20180414T080000
DTEND;TZID=UTC:20180414T100000
DTSTAMP:20260425T112634
CREATED:20171215T211817Z
LAST-MODIFIED:20180105T033839Z
UID:1396-1523692800-1523700000@jtrg.org
SUMMARY:Adopt A Highway & Annual Great American Cleanup - Free Tee Shirts\, Dunkin Donuts and Coffee
DESCRIPTION:
URL:https://jtrg.org/event/adopt-highway-free-dunkin-donuts-coffee/
LOCATION:Dunkin’ Donuts\, 131 Alt AiA\, Jupiter\, FL\, 33477\, United States
END:VEVENT
BEGIN:VEVENT
DTSTART;TZID=UTC:20180224T090000
DTEND;TZID=UTC:20180225T150000
DTSTAMP:20260425T112634
CREATED:20171215T202757Z
LAST-MODIFIED:20171216T194119Z
UID:1374-1519462800-1519570800@jtrg.org
SUMMARY:Amateur Radio Technician Class/Exam Session February 24th and 25th\, 2018
DESCRIPTION:
URL:https://jtrg.org/event/amateur-radio-technician-classexam-session-february-24th-25th-2018/
LOCATION:PBC EOC\, 20 S. Military Trail\, West Palm Beach\, FL\, 33415\, United States
END:VEVENT
BEGIN:VEVENT
DTSTART;TZID=UTC:20180218T073000
DTEND;TZID=UTC:20180218T120000
DTSTAMP:20260425T112634
CREATED:20180205T231624Z
LAST-MODIFIED:20180206T042930Z
UID:1596-1518939000-1518955200@jtrg.org
SUMMARY:Giro di Zeppoli Bike Tour February 18th\, 2018
DESCRIPTION:Flyer 2018 GdZ BT \n \nThe Jupiter Tequesta Repeater Group Group sponsors this event and assists in providing Amateur Radio communications throughout the Tour. \nCommunications for the Bike Tour will take place on the JTRG 146.625 repeater with a Pl tone of 110.9 starting at  7:30am until the Tour concludes. \nA big thanks to the Amateur Radio Volunteers participating at this event. \n 
URL:https://jtrg.org/event/giro-di-zeppoli-bike-tour-february-18th-2018/
LOCATION:Giro di Zeppoli Bike Tour\, Ocean Cay Park\, Jupiter\, FL\, 33477\, United States
ORGANIZER;CN="Kevin O'Brien":MAILTO:OBrienK@pbso.org
END:VEVENT
BEGIN:VEVENT
DTSTART;TZID=UTC:20180207T190000
DTEND;TZID=UTC:20180207T210000
DTSTAMP:20260425T112634
CREATED:20171215T202102Z
LAST-MODIFIED:20180206T043900Z
UID:1371-1518030000-1518037200@jtrg.org
SUMMARY:JTRG Regular Meeting February 7th\, 2018
DESCRIPTION:  \nPlease join us for our 1st Meeting in of this year on Wednesday February 7th\, 2018 at the Jupiter Old Town Hall at 7:00 pm. 1000 Town Hall Ave in Jupiter. \nJoin us for the 2017 “Ham of the Year” presentation. Also Special Guest Dr. Larry Grayhills will demonstrate how to operate on the JTRG Website. \nVisit us at http://www.jtrg.org \n 
URL:https://jtrg.org/event/jtrg-regular-meeting-february-7th-2018/
LOCATION:Old Jupiter Town Hall\, 1000 Town Hall Avenue\, Jupiter\, FL\, 33458\, United States
END:VEVENT
BEGIN:VEVENT
DTSTART;TZID=UTC:20180203T110000
DTEND;TZID=UTC:20180203T160000
DTSTAMP:20260425T112634
CREATED:20170308T024023Z
LAST-MODIFIED:20180115T035201Z
UID:1158-1517655600-1517673600@jtrg.org
SUMMARY:Jupiter Jubilee February 3rd\, 2018
DESCRIPTION:
URL:https://jtrg.org/event/jupiter-jubilee-2/
LOCATION:Jupiter Jubilee\, 1501 Frederick Small Rd\, Jupiter\, FL\, 33458\, United States
END:VEVENT
END:VCALENDAR