BEGIN:VCALENDAR
VERSION:2.0
PRODID:-//Jupiter Tequesta Repeater Group - ECPv6.15.17.1//NONSGML v1.0//EN
CALSCALE:GREGORIAN
METHOD:PUBLISH
X-WR-CALNAME:Jupiter Tequesta Repeater Group
X-ORIGINAL-URL:https://jtrg.org
X-WR-CALDESC:Events for Jupiter Tequesta Repeater Group
REFRESH-INTERVAL;VALUE=DURATION:PT1H
X-Robots-Tag:noindex
X-PUBLISHED-TTL:PT1H
BEGIN:VTIMEZONE
TZID:UTC
BEGIN:STANDARD
TZOFFSETFROM:+0000
TZOFFSETTO:+0000
TZNAME:UTC
DTSTART:20180101T000000
END:STANDARD
END:VTIMEZONE
BEGIN:VEVENT
DTSTART;TZID=UTC:20210417T073000
DTEND;TZID=UTC:20210417T093000
DTSTAMP:20260425T074354
CREATED:20201127T205841Z
LAST-MODIFIED:20201127T205841Z
UID:2322-1618644600-1618651800@jtrg.org
SUMMARY:Great American Clean Up
DESCRIPTION:
URL:https://jtrg.org/event/great-american-clean/
LOCATION:JTRG Adopt A Highway\,  131 Alternate A1a N\, Jupiter\, FL\, 33458\, United States
END:VEVENT
BEGIN:VEVENT
DTSTART;VALUE=DATE:20210313
DTEND;VALUE=DATE:20210315
DTSTAMP:20260425T074354
CREATED:20201127T205525Z
LAST-MODIFIED:20201209T192058Z
UID:2320-1615593600-1615766399@jtrg.org
SUMMARY:Ham Radio Technician Class
DESCRIPTION:  \n  \n  \n  \n  \n  \n  \n  \nGet your “jump start” into the world of Amateur Radio!  This beginner’s class will have you on the air in one weekend!!! \n 
URL:https://jtrg.org/event/ham-radio-technician-class/
LOCATION:American Legion\, 1130 Clare Ave\, West Palm Beach\, FL\, 33401\, United States
END:VEVENT
BEGIN:VEVENT
DTSTART;VALUE=DATE:20210227
DTEND;VALUE=DATE:20210301
DTSTAMP:20260425T074354
CREATED:20201127T205114Z
LAST-MODIFIED:20201209T192732Z
UID:2315-1614384000-1614556799@jtrg.org
SUMMARY:Amateur Radio Extra Class
DESCRIPTION:  \n  \n  \n  \n  \n  \n  \n  \n  \nInterested in going all the way to Amateur Extra…NOW’S YOUR CHANCE!!!  All courses are offered in a socially distanced environment!!!
URL:https://jtrg.org/event/amateur-radio-extra-class-2/
LOCATION:American Legion\, 1130 Clare Ave\, West Palm Beach\, FL\, 33401\, United States
END:VEVENT
BEGIN:VEVENT
DTSTART;TZID=UTC:20210221T070000
DTEND;TZID=UTC:20210221T130000
DTSTAMP:20260425T074354
CREATED:20201127T205343Z
LAST-MODIFIED:20201127T205343Z
UID:2318-1613890800-1613912400@jtrg.org
SUMMARY:Giro di Zeppoli Bike Tour
DESCRIPTION:
URL:https://jtrg.org/event/giro-di-zeppoli-bike-tour/
LOCATION:Giro di Zeppoli Bike Tour\, Ocean Cay Park\, Jupiter\, FL\, 33477\, United States
ORGANIZER;CN="Kevin O'Brien":MAILTO:OBrienK@pbso.org
END:VEVENT
BEGIN:VEVENT
DTSTART;TZID=UTC:20210206T110000
DTEND;TZID=UTC:20210206T160000
DTSTAMP:20260425T074354
CREATED:20201127T204617Z
LAST-MODIFIED:20201127T220834Z
UID:2313-1612609200-1612627200@jtrg.org
SUMMARY:Jupiter Jubilee
DESCRIPTION:
URL:https://jtrg.org/event/jupiter-jubilee-3/
LOCATION:Jupiter Jubilee\, 1501 Frederick Small Rd\, Jupiter\, FL\, 33458\, United States
END:VEVENT
BEGIN:VEVENT
DTSTART;TZID=UTC:20210203T190000
DTEND;TZID=UTC:20210203T210000
DTSTAMP:20260425T074354
CREATED:20201127T204232Z
LAST-MODIFIED:20201127T220551Z
UID:2310-1612378800-1612386000@jtrg.org
SUMMARY:JTRG Regular Meeting
DESCRIPTION:
URL:https://jtrg.org/event/jtrg-regular-meeting-2/
LOCATION:Jupiter Old Town Hall\, 1000 Town Hall Ave\, Jupiter\, FL\, 33458\, United States
END:VEVENT
BEGIN:VEVENT
DTSTART;TZID=UTC:20201213T110000
DTEND;TZID=UTC:20201213T160000
DTSTAMP:20260425T074354
CREATED:20191023T022300Z
LAST-MODIFIED:20201125T061003Z
UID:2125-1607857200-1607875200@jtrg.org
SUMMARY:Jupiter Christmas Parade Sunday December 13th\, 2020 Cancelled Due to Covid
DESCRIPTION:Jupiter Annual Christmas Parade on Sunday December 13th\, 2020. Volunteers are always welcome and needed to assist with Radio Communications. We will meet at the Subway on Old Dixie Highway in Jupiter at 11:00am for assignments. \nDCIM100GOPROGOPR3401.
URL:https://jtrg.org/event/jupiter-christmas-parade-sunday-december-13th-2020/
LOCATION:FL
END:VEVENT
BEGIN:VEVENT
DTSTART;TZID=UTC:20201212T073000
DTEND;TZID=UTC:20201212T093000
DTSTAMP:20260425T074354
CREATED:20191022T174320Z
LAST-MODIFIED:20191022T174320Z
UID:2117-1607758200-1607765400@jtrg.org
SUMMARY:Adopt A Highway Trash Pickup Saturday December 12th\, 2020
DESCRIPTION:Adopt A Highway trash pickup Saturday December 12th\, 2020. We meet at the Dunkin Donuts parking lot at the NE corner of Alt A1A and Indiantown Rd. Come out and enjoy some free donuts and coffee. \n \nYou never know what you might find
URL:https://jtrg.org/event/adopt-highway-trash-pickup-saturday-december-12th-2020/
LOCATION:FL
END:VEVENT
BEGIN:VEVENT
DTSTART;TZID=UTC:20201206T113000
DTEND;TZID=UTC:20201206T153000
DTSTAMP:20260425T074354
CREATED:20191023T020746Z
LAST-MODIFIED:20201125T060909Z
UID:2123-1607254200-1607268600@jtrg.org
SUMMARY:Jupiter Farms Christmas Parade Sunday December 6th\, 2020 Cancelled Due to Covid
DESCRIPTION:Jupiter Farms Christmas on Sunday December 6th\, 2020. Ham Radio Operators are needed to assist with  parade communications. We will meet at the corner of Alexander Run and Sandy Run at 11:30am for Parade assignments. This is a fun event with plenty of wildlife in attendance!
URL:https://jtrg.org/event/jupiter-farms-christmas-parade-sunday-december-6th-2020/
LOCATION:FL
END:VEVENT
BEGIN:VEVENT
DTSTART;TZID=UTC:20201121T100000
DTEND;TZID=UTC:20201121T160000
DTSTAMP:20260425T074354
CREATED:20201119T170039Z
LAST-MODIFIED:20201119T170859Z
UID:2276-1605952800-1605974400@jtrg.org
SUMMARY:JTRG Open Air Picnic
DESCRIPTION:Join us for our OPEN AIR\, Socially distanced Picnic!!!! \n \n  \n  \n  \n  \n  \n  \n  \nSpend time with your radio friends…have a hamburger\, hot dog or enjoy one of the covered dishes.  There’s a $6 admission to the park (per car).  Bring your bicycle\, kayak or your DXpedition equipment!!!!
URL:https://jtrg.org/event/2276/
LOCATION:Jonathan Dickinson State Park
END:VEVENT
BEGIN:VEVENT
DTSTART;TZID=UTC:20201107T090000
DTEND;TZID=UTC:20201108T170000
DTSTAMP:20260425T074354
CREATED:20191022T162504Z
LAST-MODIFIED:20200729T022829Z
UID:2098-1604739600-1604854800@jtrg.org
SUMMARY:General Ham Radio Class November 7th and 8th\, 2020
DESCRIPTION:General Ham Radio Class at the American Legion\, 1130 Clare Ave\, West Palm Beach\, Fla\, 33401. \nContact Bert AG4BV at aug77@att.net to sign up.
URL:https://jtrg.org/event/general-ham-radio-class-november-7th-8th-2020/
LOCATION:FL
END:VEVENT
BEGIN:VEVENT
DTSTART;TZID=UTC:20201104T190000
DTEND;TZID=UTC:20201104T210000
DTSTAMP:20260425T074354
CREATED:20191022T170742Z
LAST-MODIFIED:20191022T170927Z
UID:2108-1604516400-1604523600@jtrg.org
SUMMARY:JTRG Annual Elections Meeting Wednesday November 4th\, 2020
DESCRIPTION:JTRG Annual Elections Meeting Wednesday November 4th\, 2020 at 7:00pm at the Jupiter Old Town Hall. Join us for some Papa Johns Pizza as we elect our 2021 Officers.
URL:https://jtrg.org/event/jtrg-annual-elections-meeting-wednesday-november-6th-2020/
LOCATION:FL
END:VEVENT
BEGIN:VEVENT
DTSTART;TZID=UTC:20201007T190000
DTEND;TZID=UTC:20201007T200000
DTSTAMP:20260425T074354
CREATED:20191022T163715Z
LAST-MODIFIED:20191022T164915Z
UID:2100-1602097200-1602100800@jtrg.org
SUMMARY:JTRG Board of Directors Annual Meeting October 7th\, 2020
DESCRIPTION:JTRG Board of Directors Annual Meeting at 7:00pm at the Jupiter Old Town Hall.
URL:https://jtrg.org/event/jtrg-board-directors-annual-meeting-october-1st-2020/
LOCATION:FL
END:VEVENT
BEGIN:VEVENT
DTSTART;TZID=UTC:20201003T090000
DTEND;TZID=UTC:20201004T170000
DTSTAMP:20260425T074354
CREATED:20191022T162154Z
LAST-MODIFIED:20200729T022612Z
UID:2096-1601715600-1601830800@jtrg.org
SUMMARY:Technician Ham Radio Class October 3rd and 4th\, 2020
DESCRIPTION:Ham Radio Technician Class at the American Legion\, 1130 Clare Ave\, West Palm Beach\, Fla 33401. \nContact Bert AG4BV at aug77@att.net to sign up.
URL:https://jtrg.org/event/technician-ham-radio-class-october-3rd-4th-2020/
LOCATION:FL
END:VEVENT
BEGIN:VEVENT
DTSTART;TZID=UTC:20200912T073000
DTEND;TZID=UTC:20200912T213000
DTSTAMP:20260425T074354
CREATED:20191022T173823Z
LAST-MODIFIED:20191022T173823Z
UID:2115-1599895800-1599946200@jtrg.org
SUMMARY:Adopt A Highway and ICC Saturday September 12th\, 2020
DESCRIPTION:Adopt A Highway and International Coastal Cleanup on Saturday September 12th\, 2020 at 7:30am. We will meet at the Dunkin Donuts parking lot at the NE corner of Alt A1A and Indiantown Rd in Jupiter. Come out and enjoy some free coffee and doughnuts\, Free ICC tee shirts for all who participate!
URL:https://jtrg.org/event/adopt-highway-icc-saturday-september-12th-2020/
LOCATION:FL
END:VEVENT
BEGIN:VEVENT
DTSTART;TZID=UTC:20200902T190000
DTEND;TZID=UTC:20200902T210000
DTSTAMP:20260425T074354
CREATED:20191022T170219Z
LAST-MODIFIED:20191022T170219Z
UID:2106-1599073200-1599080400@jtrg.org
SUMMARY:JTRG Regular Meeting on Wednesday September 2nd\, 2020
DESCRIPTION:JTRG Regular Meeting at 7:00pm Wednesday September 2nd\, 2020 at the Jupiter Old Town Hall. Join us for some Papa Johns Pizza and a great time!
URL:https://jtrg.org/event/jtrg-regular-meeting-wednesday-september-2nd-2020/
LOCATION:FL
END:VEVENT
BEGIN:VEVENT
DTSTART;TZID=UTC:20200627T070000
DTEND;TZID=UTC:20200628T170000
DTSTAMP:20260425T074354
CREATED:20191023T015228Z
LAST-MODIFIED:20191023T015228Z
UID:2119-1593241200-1593363600@jtrg.org
SUMMARY:Field Day 2020 "On The Beach" June 27th and 28th\, 2020
DESCRIPTION:JTRG Field Day 2020 on June 27th and 28th at the Jupiter Carlin Park Civic Center. Come out and enjoy an educational experience as Amateur Radio Operators make as many contacts as possible in a 24 hour period using only emergency power such as generators\, batteries\, solar power and more. Enjoy hot dogs\, hamburgers\, chicken\, ribs and a Sunday morning breakfast “On the Beach”! This event is open to the public and donations are accepted.
URL:https://jtrg.org/event/field-day-2020-beach-june-27th-28th-2020/
LOCATION:FL
END:VEVENT
BEGIN:VEVENT
DTSTART;TZID=UTC:20200613T073000
DTEND;TZID=UTC:20200613T093000
DTSTAMP:20260425T074354
CREATED:20191022T172114Z
LAST-MODIFIED:20191022T173032Z
UID:2113-1592033400-1592040600@jtrg.org
SUMMARY:Adopt A Highway Trash Pick up Saturday June 13th\, 2020
DESCRIPTION:JTRG Adopt A Highway on Saturday June 13th\, 2020 at 7:30am. We meet at the Dunkin Donuts parking lot. Enjoy some free doughnuts and coffee. \n \nYou never know what you might find
URL:https://jtrg.org/event/adopt-highway-trash-pick-saturday-june-13th-2020/
LOCATION:FL
END:VEVENT
BEGIN:VEVENT
DTSTART;TZID=UTC:20200603T180000
DTEND;TZID=UTC:20200603T190000
DTSTAMP:20260425T074354
CREATED:20191023T020016Z
LAST-MODIFIED:20191023T020016Z
UID:2121-1591207200-1591210800@jtrg.org
SUMMARY:JTRG Field Day Planning Meeting June 3rd\, 2020
DESCRIPTION:JTRG Field Day Planning Meeting on Wednesday June 3rd\, 2020 at 6:00pm at the Carlin Park Civic Center “On the Beach”. Come on out as we make plans for our 38th Annual Field Day event.
URL:https://jtrg.org/event/jtrg-field-day-planning-meeting-june-3rd-2020/
LOCATION:FL
END:VEVENT
BEGIN:VEVENT
DTSTART;TZID=UTC:20200506T190000
DTEND;TZID=UTC:20200506T210000
DTSTAMP:20260425T074354
CREATED:20191022T165709Z
LAST-MODIFIED:20200404T224420Z
UID:2104-1588791600-1588798800@jtrg.org
SUMMARY:JTRG Regular Meeting Wednesday May 6th\, 2020 at 7:00pm
DESCRIPTION:JTRG Regular Meeting on Wednesday May 6th\, 2020 at 7:00pm at the Jupiter Old Town Hall. Join us for some Papa Johns Pizza and a great time!
URL:https://jtrg.org/event/jtrg-regular-meeting-wednesday-may-6th-2020-700pm/
LOCATION:FL
END:VEVENT
BEGIN:VEVENT
DTSTART;TZID=UTC:20200418T073000
DTEND;TZID=UTC:20200418T093000
DTSTAMP:20260425T074354
CREATED:20191022T171557Z
LAST-MODIFIED:20200404T224305Z
UID:2111-1587195000-1587202200@jtrg.org
SUMMARY:Adopt A Hwy and GAC Saturday April 18th\, 2020
DESCRIPTION:Adopt A Highway and Great American Cleanup on Saturday April 18th\, 2020 at 7:30am. We meet in the Dunkin Donuts Parking lot at the NE corner of Alt A1A and Indiantown Rd. Come out and enjoy some fresh doughnuts and coffee!. Free tee shirts for participants. \nYou never know what you might find!
URL:https://jtrg.org/event/adopt-hwy-gac-saturday-april-18th-2020/
LOCATION:FL
END:VEVENT
BEGIN:VEVENT
DTSTART;TZID=UTC:20200307T090000
DTEND;TZID=UTC:20200308T170000
DTSTAMP:20260425T074354
CREATED:20191022T161909Z
LAST-MODIFIED:20191022T163133Z
UID:2094-1583571600-1583686800@jtrg.org
SUMMARY:Technician Class March 7th and 8th\, 2020
DESCRIPTION:Ham Radio Technician Class at the Palm Beach County EOC. Contact Bert at aug77@att.net to sign up.
URL:https://jtrg.org/event/technician-class-march-7th-8th-2020/
LOCATION:FL
END:VEVENT
BEGIN:VEVENT
DTSTART;TZID=UTC:20200222T090000
DTEND;TZID=UTC:20200223T170000
DTSTAMP:20260425T074354
CREATED:20191022T161644Z
LAST-MODIFIED:20191023T033512Z
UID:2092-1582362000-1582477200@jtrg.org
SUMMARY:Extra Ham Radio Class February 22\,23\, 2020
DESCRIPTION:Ham Radio Extra Class February 22nd and 23rd\, 2020 at the Palm Beach County EOC. Email Bert AG4BV at aug77@att.net to sign up.
URL:https://jtrg.org/event/extra-ham-radio-class-february-2223-2020/
LOCATION:FL
END:VEVENT
BEGIN:VEVENT
DTSTART;TZID=UTC:20200207T090000
DTEND;TZID=UTC:20200209T170000
DTSTAMP:20260425T074354
CREATED:20191221T230954Z
LAST-MODIFIED:20191221T230954Z
UID:2157-1581066000-1581267600@jtrg.org
SUMMARY:Orlando Hamcation 2020
DESCRIPTION:
URL:https://jtrg.org/event/orlando-hamcation-2020/
LOCATION:Orlando Hamcation\, 4603 West Colonial Drive\, Orlando\, Florida\, 32808
END:VEVENT
BEGIN:VEVENT
DTSTART;TZID=UTC:20200205T080000
DTEND;TZID=UTC:20200205T170000
DTSTAMP:20260425T074354
CREATED:20191022T160858Z
LAST-MODIFIED:20191022T160858Z
UID:2089-1580889600-1580922000@jtrg.org
SUMMARY:JTRG Regular Meeting February 5th\, 2020
DESCRIPTION:JTRG Regular Meeting Wednesday February 5th\, 2020 at the Jupiter Old Town Hall. Meeting starts at 7:00pm. Join us for some Papa Johns Pizza and a great time!
URL:https://jtrg.org/event/jtrg-regular-meeting-february-5th-2020/
LOCATION:FL
END:VEVENT
BEGIN:VEVENT
DTSTART;TZID=UTC:20200201T110000
DTEND;TZID=UTC:20200201T160000
DTSTAMP:20260425T074354
CREATED:20181112T010616Z
LAST-MODIFIED:20191022T155645Z
UID:1671-1580554800-1580572800@jtrg.org
SUMMARY:Jupiter Jubilee February 1st\, 2020
DESCRIPTION:Jupiter Jubilee February 1st\, 2020\n\nFebruary 1st @ 11:00 am – 4:00 pm\n\n\n\n\n\n \n\n\n\n\nPlease follow and like us:
URL:https://jtrg.org/event/jupiter-jubilee-february-1st-2020/
LOCATION:Jupiter Jubilee\, 1501 Frederick Small Rd\, Jupiter\, FL\, 33458\, United States
ORGANIZER;CN="Jupiter Tequesta Repeater Group":MAILTO:aug77@att.net
END:VEVENT
BEGIN:VEVENT
DTSTART;TZID=UTC:20200107T200000
DTEND;TZID=UTC:20200107T210000
DTSTAMP:20260425T074354
CREATED:20191022T012123Z
LAST-MODIFIED:20191022T012659Z
UID:2084-1578427200-1578430800@jtrg.org
SUMMARY:Weekly Rag Chew Net!
DESCRIPTION:Join us for our weekly Rag Chew Net.  8pm at 146.625
URL:https://jtrg.org/event/2084/
LOCATION:FL
END:VEVENT
BEGIN:VEVENT
DTSTART;TZID=UTC:20191215T110000
DTEND;TZID=UTC:20191215T150000
DTSTAMP:20260425T074354
CREATED:20181112T014446Z
LAST-MODIFIED:20190922T235541Z
UID:1688-1576407600-1576422000@jtrg.org
SUMMARY:Jupiter Farms Parade Sunday December 15th\, 2019
DESCRIPTION:Please follow and like us:
URL:https://jtrg.org/event/jupiter-farms-parade-sunday-december-1st-2019/
LOCATION:Jupiter Farms Christmas Parade\, 12000 Sandy Run\, Jupiter\, FL\, 33478\, United States
END:VEVENT
BEGIN:VEVENT
DTSTART;TZID=UTC:20191208T110000
DTEND;TZID=UTC:20191208T150000
DTSTAMP:20260425T074354
CREATED:20181112T014809Z
LAST-MODIFIED:20181117T191355Z
UID:1690-1575802800-1575817200@jtrg.org
SUMMARY:Town of Jupiter Christmas Parade
DESCRIPTION:Please follow and like us:
URL:https://jtrg.org/event/town-jupiter-christmas-parade/
LOCATION:Town of Jupiter Christmas Parade\, 806 N Old Dixie Highway\, Jupiter\, FL\, 33458\, United States
END:VEVENT
BEGIN:VEVENT
DTSTART;TZID=UTC:20191207T080000
DTEND;TZID=UTC:20191207T100000
DTSTAMP:20260425T074354
CREATED:20181112T012219Z
LAST-MODIFIED:20181117T191247Z
UID:1678-1575705600-1575712800@jtrg.org
SUMMARY:Adopt A Highway Free Donuts and Coffee
DESCRIPTION:Please follow and like us:
URL:https://jtrg.org/event/adopt-highway-free-donuts-coffee/
LOCATION:JTRG Adopt A Highway\,  131 Alternate A1a N\, Jupiter\, FL\, 33458\, United States
END:VEVENT
END:VCALENDAR